BEGIN:VCALENDAR
VERSION:2.0
PRODID:-//wp-events-plugin.com//7.2.3.1//EN
BEGIN:VEVENT
UID:26@osaznato.com
DTSTART;TZID=Europe/Sofia;VALUE=DATE:20241201
DTEND;TZID=Europe/Sofia;VALUE=DATE:20250501
DTSTAMP:20241129T112107Z
URL:https://osaznato.com/events/black-friday-harmonia/
SUMMARY:Промо план „Хармония“
DESCRIPTION:\nПРОГРАМИ ЗА ТРАНСФОРМАЦИЯ НА СЪЗ
 НАНИЕТО И ЛИЧНОСТЕН РАСТЕЖ\n\nПлан „Харм
 ония“:\n\n\n\n4 индивидуални срещи\n\n\n\n12 гру
 пови срещи\n\n\n\n\nКакво включва този план:\
 n\n\n\nВ тези 12 групови и 4 индивидуални сре
 щи\, в които чрез моя богат професионален
  опит и инструментариум за работа с несъ
 знаваното\, включващ много въздействащи 
 експериментални практики и упражнения\, 
 ще успееш:\n\n\n\n\n\n\n\nДа опознаеш историята
  на твоя род и начина\, по който тази исто
 рия е повлияла на твоя живот в настоящет
 о\;\n\n\n\n\n\n\n\n\nДа разбереш кой/коя си и да в
 никнеш дълбоко в своето несъзнавано\;\n\n\n
 \n\n\n\n\n\nДа разпознаеш програмите\, които с
 а вградени там от твоите родители и сред
 ата\, в която си расъл\;\n\n\n\n\n\n\n\n\nДа се нау
 чиш да заставаш “Мета” позиция и да бъд
 еш обективен по отношение на твоето мина
 ло и твоите близки\;\n\n\n\n\n\n\n\n\nДа откриеш 
 неработещите модели в поведението си и д
 а идентифицираш дълбоките си подсъзнате
 лни вярвания\, които ги създават\;\n\n\n\n\n\n\n
 \n\nДа разбереш как мисълта и вярванията т
 и буквално създават твоята реалност\;\n\n\n
 \n\n\n\n\n\nДа избереш\, кои убеждения/програм
 и искаш да промениш и кои от тях искаш да 
 продължиш да използваш\;\n\n\n\n\n\n\n\n\nДа отр
 аботиш основна травма от миналото\, коят
 о активира негативните ти преживявания 
 и въздейства върху поведението ти сега\;\
 n\n\n\n\n\n\n\n\nДа се изправиш лице в лице със с
 трахове си\;\n\n\n\n\n\n\n\n\nДа се научиш да бъд
 еш господар на емоциите си\;\n\n\n\n\n\n\n\n\nДа 
 набележиш своите нови цели\;\n\n\n\n\n\n\n\n\nДа 
 създадеш своята представа за човека\, ко
 йто искаш да бъдеш в края на тази група\;\n
 \n\n\n\n\n\n\n\nДа планираш новите си действия 
 от позицията на човека\, който искаш да б
 ъдеш\;\n\n\n\n\n\n\n\n\nДа започнеш да действаш к
 ато човека\, който искаш да бъдеш\;\n\n\n\n\n\n\
 n12 ГРУПОВИ СРЕЩИ – Груповите срещи са ка
 кто теоретични\, така и с практически упр
 ажнения - индивидуално или в малки групи\
 , не изискват пълно разкриване пред друг
 ите\, не включват дълбинна работа и нито 
 един участник не е задължен да споделя п
 ред групата. Въпреки това чрез упражнени
 ята\, практиките и експериментите\, които
  ще правим в тях\, ти ще достигнеш до нови 
 нива на осъзнатост и ще подобриш функцио
 нирането си в средата!\n\n\n\n\n\n\n\nЩе увелич
 иш своята осъзнатост\;\n\n\n\n\n\n\n\n\nЩе заздр
 авиш основите на личността си\;\n\n\n\n\n\n\n\n\n
 Ще промениш житейския си мироглед\;\n\n\n\n\n
 \n\n\n\nЩе започнеш да си поставяш нови цели
 \,\n\n\n\n\n\n\n\n\nЩе  започнеш да действаш\, кат
 о нов човек\, с нова идентичност! Човек\, к
 ойто знае кой е\, и какво иска!\n\n\n\n\n\n\n\n\nВ 
 тези 12 срещи с групата ще успееш да прове
 риш напредъка си\, като слушаш въпросите\
 , отговорите на тях и обратните връзки от
  мен и от другите участници.\n\n\n\n\n\n\n\n\nСъщ
 о така ще можеш да получаваш отговор на т
 вои въпроси\, да споделяш напредъка си и 
 да откриеш нови ресурси в себе си.\n\n\n\n\n\n\
 n\n\nЩе получаваш насоки от мен за конкрет
 ни действия\, които да приложиш в ежеднев
 ието си\, за да създадеш в реалността си с
 воите нови избори и осъзнавания\;\n\n\n\n\n\n\n
 \n\nЩе се научиш да си поставяш по-стабилн
 и граници\, но също и гъвкави\, когато е не
 обходимо. Граници\, които да подкрепят и 
 пазят новата ти идентичност\, за която ра
 боти толкова усилено тук в групата!\n\n\n\n\n
 Каква ще бъде твоята инвестиция за участ
 ието ти в тази програма?\n\n\nЧерен петък с
 амо сега: 766лв. 456 лв.\n\n\n\nГРАФИК И СЪДЪРЖА
 НИЕ:\n\n\n\nКога: Начало на груповите срещи\n
 Какво: Теми на груповите срещи\nИндивиду
 ални срещи: Календар за запазване на час
 ове\n\n\n\n
ATTACH;FMTTYPE=image/jpeg:https://osaznato.com/wp-content/uploads/2024/11/
 blackfriday_1200x630.png
CATEGORIES:Програми
LOCATION:https://zoom.us/
END:VEVENT
BEGIN:VTIMEZONE
TZID:Europe/Sofia
X-LIC-LOCATION:Europe/Sofia
BEGIN:STANDARD
DTSTART:20241027T030000
TZOFFSETFROM:+0300
TZOFFSETTO:+0200
TZNAME:EET
END:STANDARD
BEGIN:DAYLIGHT
DTSTART:20250330T040000
TZOFFSETFROM:+0200
TZOFFSETTO:+0300
TZNAME:EEST
END:DAYLIGHT
END:VTIMEZONE
END:VCALENDAR